BEGIN:VCALENDAR
VERSION:2.0
PRODID:-//A2i Systems - ECPv6.15.20//NONSGML v1.0//EN
CALSCALE:GREGORIAN
METHOD:PUBLISH
X-WR-CALNAME:A2i Systems
X-ORIGINAL-URL:https://www.a2isystems.com
X-WR-CALDESC:Events for A2i Systems
REFRESH-INTERVAL;VALUE=DURATION:PT1H
X-Robots-Tag:noindex
X-PUBLISHED-TTL:PT1H
BEGIN:VTIMEZONE
TZID:Europe/Copenhagen
BEGIN:DAYLIGHT
TZOFFSETFROM:+0100
TZOFFSETTO:+0200
TZNAME:CEST
DTSTART:20250330T010000
END:DAYLIGHT
BEGIN:STANDARD
TZOFFSETFROM:+0200
TZOFFSETTO:+0100
TZNAME:CET
DTSTART:20251026T010000
END:STANDARD
BEGIN:DAYLIGHT
TZOFFSETFROM:+0100
TZOFFSETTO:+0200
TZNAME:CEST
DTSTART:20260329T010000
END:DAYLIGHT
BEGIN:STANDARD
TZOFFSETFROM:+0200
TZOFFSETTO:+0100
TZNAME:CET
DTSTART:20261025T010000
END:STANDARD
BEGIN:DAYLIGHT
TZOFFSETFROM:+0100
TZOFFSETTO:+0200
TZNAME:CEST
DTSTART:20270328T010000
END:DAYLIGHT
BEGIN:STANDARD
TZOFFSETFROM:+0200
TZOFFSETTO:+0100
TZNAME:CET
DTSTART:20271031T010000
END:STANDARD
END:VTIMEZONE
BEGIN:VEVENT
DTSTART;VALUE=DATE:20261007
DTEND;VALUE=DATE:20261010
DTSTAMP:20260425T202459
CREATED:20220620T110915Z
LAST-MODIFIED:20260115T194504Z
UID:845-1791331200-1791590399@www.a2isystems.com
SUMMARY:NACS Show 2026 - Las Vegas
DESCRIPTION:Every year\, the NACS Show brings together convenience and fuel retailing industry professionals for four days of learning\, buying and selling\, networking and fun — all designed to help participants grow their bottom line. Request a meeting
URL:https://www.a2isystems.com/event/nacs-show-2026/
LOCATION:Las Vegas Convention Center | Las Vegas\, United States
ATTACH;FMTTYPE=image/jpeg:https://www.a2isystems.com/wp-content/uploads/2022/06/NACS-Tile_OPIS-Axxis-A2i.jpg
END:VEVENT
END:VCALENDAR